BEGIN:VCALENDAR
PRODID:-//Microsoft Corporation//Outlook 12.0 MIMEDIR//EN
VERSION:2.0
METHOD:PUBLISH
X-MS-OLK-FORCEINSPECTOROPEN:TRUE
BEGIN:VEVENT
CLASS:PUBLIC
CREATED:20260422T101042Z
DESCRIPTION:Karabuke\n\nŽanr: popularna / popular\n\nLokacija: Gala hala, Ljubljana\nZačetek: 17.04.2026 ob 22:00\n\nVeč informacij: https://www.galahala.com/arhiv/karabruke-9/32974/
DTSTAMP:20260417T200000Z
DTSTART:20260417T200000Z
LAST-MODIFIED:20260422T101042Z
LOCATION:Gala hala, Ljubljana
PRIORITY:5
SEQUENCE:0
SUMMARY;LANGUAGE=sl-si:Karabuke
TRANSP:OPAQUE
UID:69e882821e615
X-MICROSOFT-CDO-BUSYSTATUS:BUSY
X-MICROSOFT-CDO-IMPORTANCE:1
X-MICROSOFT-DISALLOW-COUNTER:FALSE
X-MS-OLK-ALLOWEXTERNCHECK:TRUE
X-MS-OLK-AUTOFILLLOCATION:FALSE
X-MS-OLK-CONFTYPE:0
BEGIN:VALARM
TRIGGER:-PT1440M
ACTION:DISPLAY
DESCRIPTION:Opomnik na dogodek
END:VALARM
END:VEVENT
END:VCALENDAR
