BEGIN:VCALENDAR
PRODID:-//Microsoft Corporation//Outlook 12.0 MIMEDIR//EN
VERSION:2.0
METHOD:PUBLISH
X-MS-OLK-FORCEINSPECTOROPEN:TRUE
BEGIN:VEVENT
CLASS:PUBLIC
CREATED:20260422T101051Z
DESCRIPTION:Dance the Night Away: Torulsson\n\nŽanr: popularna / popular\n\nLokacija: Gala hala, Ljubljana\nZačetek: 24.04.2026 ob 22:00\n\nVeč informacij: https://www.galahala.com/arhiv/dance-the-night-away-22/32910/
DTSTAMP:20260424T200000Z
DTSTART:20260424T200000Z
LAST-MODIFIED:20260422T101051Z
LOCATION:Gala hala, Ljubljana
PRIORITY:5
SEQUENCE:0
SUMMARY;LANGUAGE=sl-si:Dance the Night Away: Torulsson
TRANSP:OPAQUE
UID:69e8828b684a3
X-MICROSOFT-CDO-BUSYSTATUS:BUSY
X-MICROSOFT-CDO-IMPORTANCE:1
X-MICROSOFT-DISALLOW-COUNTER:FALSE
X-MS-OLK-ALLOWEXTERNCHECK:TRUE
X-MS-OLK-AUTOFILLLOCATION:FALSE
X-MS-OLK-CONFTYPE:0
BEGIN:VALARM
TRIGGER:-PT1440M
ACTION:DISPLAY
DESCRIPTION:Opomnik na dogodek
END:VALARM
END:VEVENT
END:VCALENDAR
