BEGIN:VCALENDAR
PRODID:-//Microsoft Corporation//Outlook 12.0 MIMEDIR//EN
VERSION:2.0
METHOD:PUBLISH
X-MS-OLK-FORCEINSPECTOROPEN:TRUE
BEGIN:VEVENT
CLASS:PUBLIC
CREATED:20260422T101225Z
DESCRIPTION:Ditka\n\nŽanr: popularna / popular\n\nLokacija: Kavarna Slamič, Ljubljana\nZačetek: 15.04.2026 ob 19:30\n\nVeč informacij: https://slamic.si/koncerti/ditka-band/
DTSTAMP:20260415T173000Z
DTSTART:20260415T173000Z
LAST-MODIFIED:20260422T101225Z
LOCATION:Kavarna Slamič, Ljubljana
PRIORITY:5
SEQUENCE:0
SUMMARY;LANGUAGE=sl-si:Ditka
TRANSP:OPAQUE
UID:69e882e908f53
X-MICROSOFT-CDO-BUSYSTATUS:BUSY
X-MICROSOFT-CDO-IMPORTANCE:1
X-MICROSOFT-DISALLOW-COUNTER:FALSE
X-MS-OLK-ALLOWEXTERNCHECK:TRUE
X-MS-OLK-AUTOFILLLOCATION:FALSE
X-MS-OLK-CONFTYPE:0
BEGIN:VALARM
TRIGGER:-PT1440M
ACTION:DISPLAY
DESCRIPTION:Opomnik na dogodek
END:VALARM
END:VEVENT
END:VCALENDAR
