BEGIN:VCALENDAR
PRODID:-//Microsoft Corporation//Outlook 12.0 MIMEDIR//EN
VERSION:2.0
METHOD:PUBLISH
X-MS-OLK-FORCEINSPECTOROPEN:TRUE
BEGIN:VEVENT
CLASS:PUBLIC
CREATED:20260422T100924Z
DESCRIPTION:Jordi Roviro Quintet\n\nŽanr: jazz\n\nLokacija: Kazina Jazz Klub, Ljubljana\nZačetek: 01.04.2026 ob 20:00\n\nVeč informacij: https://kazina-ljubljana.com/events-2-1/jordi-roviro-quintet
DTSTAMP:20260401T180000Z
DTSTART:20260401T180000Z
LAST-MODIFIED:20260422T100924Z
LOCATION:Kazina Jazz Klub, Ljubljana
PRIORITY:5
SEQUENCE:0
SUMMARY;LANGUAGE=sl-si:Jordi Roviro Quintet
TRANSP:OPAQUE
UID:69e88234cad63
X-MICROSOFT-CDO-BUSYSTATUS:BUSY
X-MICROSOFT-CDO-IMPORTANCE:1
X-MICROSOFT-DISALLOW-COUNTER:FALSE
X-MS-OLK-ALLOWEXTERNCHECK:TRUE
X-MS-OLK-AUTOFILLLOCATION:FALSE
X-MS-OLK-CONFTYPE:0
BEGIN:VALARM
TRIGGER:-PT1440M
ACTION:DISPLAY
DESCRIPTION:Opomnik na dogodek
END:VALARM
END:VEVENT
END:VCALENDAR
