BEGIN:VCALENDAR
PRODID:-//Microsoft Corporation//Outlook 12.0 MIMEDIR//EN
VERSION:2.0
METHOD:PUBLISH
X-MS-OLK-FORCEINSPECTOROPEN:TRUE
BEGIN:VEVENT
CLASS:PUBLIC
CREATED:20260422T130927Z
DESCRIPTION:Pepel in kri\n\nŽanr: popularna / popular\n\nLokacija: Blunout, Domžale\nZačetek: 04.04.2026 ob 21:00\n\nVeč informacij: https://blunout.si/izdelek/pepel-in-kri-2026/
DTSTAMP:20260404T190000Z
DTSTART:20260404T190000Z
LAST-MODIFIED:20260422T130927Z
LOCATION:Blunout, Domžale
PRIORITY:5
SEQUENCE:0
SUMMARY;LANGUAGE=sl-si:Pepel in kri
TRANSP:OPAQUE
UID:69e8ac6752a7f
X-MICROSOFT-CDO-BUSYSTATUS:BUSY
X-MICROSOFT-CDO-IMPORTANCE:1
X-MICROSOFT-DISALLOW-COUNTER:FALSE
X-MS-OLK-ALLOWEXTERNCHECK:TRUE
X-MS-OLK-AUTOFILLLOCATION:FALSE
X-MS-OLK-CONFTYPE:0
BEGIN:VALARM
TRIGGER:-PT1440M
ACTION:DISPLAY
DESCRIPTION:Opomnik na dogodek
END:VALARM
END:VEVENT
END:VCALENDAR
