BEGIN:VCALENDAR
PRODID:-//Microsoft Corporation//Outlook 12.0 MIMEDIR//EN
VERSION:2.0
METHOD:PUBLISH
X-MS-OLK-FORCEINSPECTOROPEN:TRUE
BEGIN:VEVENT
CLASS:PUBLIC
CREATED:20260422T100859Z
DESCRIPTION:Before Time\n\nŽanr: popularna / popular\n\nLokacija: Kotlovnica, Kamnik\nZačetek: 03.04.2026 ob 20:00\n\nVeč informacij: https://www.kotlovnica.si/sl/program/koncert-before-time
DTSTAMP:20260403T180000Z
DTSTART:20260403T180000Z
LAST-MODIFIED:20260422T100859Z
LOCATION:Kotlovnica, Kamnik
PRIORITY:5
SEQUENCE:0
SUMMARY;LANGUAGE=sl-si:Before Time
TRANSP:OPAQUE
UID:69e8821b921b0
X-MICROSOFT-CDO-BUSYSTATUS:BUSY
X-MICROSOFT-CDO-IMPORTANCE:1
X-MICROSOFT-DISALLOW-COUNTER:FALSE
X-MS-OLK-ALLOWEXTERNCHECK:TRUE
X-MS-OLK-AUTOFILLLOCATION:FALSE
X-MS-OLK-CONFTYPE:0
BEGIN:VALARM
TRIGGER:-PT1440M
ACTION:DISPLAY
DESCRIPTION:Opomnik na dogodek
END:VALARM
END:VEVENT
END:VCALENDAR
