BEGIN:VCALENDAR
PRODID:-//Microsoft Corporation//Outlook 12.0 MIMEDIR//EN
VERSION:2.0
METHOD:PUBLISH
X-MS-OLK-FORCEINSPECTOROPEN:TRUE
BEGIN:VEVENT
CLASS:PUBLIC
CREATED:20260422T114821Z
DESCRIPTION:odbo.oqpo\n\nŽanr: impro in eksperimentalna / impro and experimental\n\nLokacija: ŠKUC, Ljubljana\nZačetek: 11.04.2026 ob 20:00\n\nVeč informacij: https://skuc.org/odbo-oqpo-koncert
DTSTAMP:20260411T180000Z
DTSTART:20260411T180000Z
LAST-MODIFIED:20260422T114821Z
LOCATION:ŠKUC, Ljubljana
PRIORITY:5
SEQUENCE:0
SUMMARY;LANGUAGE=sl-si:odbo.oqpo
TRANSP:OPAQUE
UID:69e8996584eae
X-MICROSOFT-CDO-BUSYSTATUS:BUSY
X-MICROSOFT-CDO-IMPORTANCE:1
X-MICROSOFT-DISALLOW-COUNTER:FALSE
X-MS-OLK-ALLOWEXTERNCHECK:TRUE
X-MS-OLK-AUTOFILLLOCATION:FALSE
X-MS-OLK-CONFTYPE:0
BEGIN:VALARM
TRIGGER:-PT1440M
ACTION:DISPLAY
DESCRIPTION:Opomnik na dogodek
END:VALARM
END:VEVENT
END:VCALENDAR
