BEGIN:VCALENDAR
PRODID:-//Microsoft Corporation//Outlook 12.0 MIMEDIR//EN
VERSION:2.0
METHOD:PUBLISH
X-MS-OLK-FORCEINSPECTOROPEN:TRUE
BEGIN:VEVENT
CLASS:PUBLIC
CREATED:20260422T131612Z
DESCRIPTION:80 let zapisane glasbe\n\nŽanr: klasična / classical\n\nLokacija: Društvo slovenskih pisateljev, Ljubljana\nZačetek: 13.04.2026 ob 17:00\nKonec: 13.04.2026
DTSTAMP:20260413T150000Z
DTSTART:20260413T150000Z
DTEND:20260513
LAST-MODIFIED:20260422T131612Z
LOCATION:Društvo slovenskih pisateljev, Ljubljana
PRIORITY:5
SEQUENCE:0
SUMMARY;LANGUAGE=sl-si:80 let zapisane glasbe
TRANSP:OPAQUE
UID:69e8adfc3cc14
X-MICROSOFT-CDO-BUSYSTATUS:BUSY
X-MICROSOFT-CDO-IMPORTANCE:1
X-MICROSOFT-DISALLOW-COUNTER:FALSE
X-MS-OLK-ALLOWEXTERNCHECK:TRUE
X-MS-OLK-AUTOFILLLOCATION:FALSE
X-MS-OLK-CONFTYPE:0
BEGIN:VALARM
TRIGGER:-PT1440M
ACTION:DISPLAY
DESCRIPTION:Opomnik na dogodek
END:VALARM
END:VEVENT
END:VCALENDAR
