BEGIN:VCALENDAR
PRODID:-//Microsoft Corporation//Outlook 12.0 MIMEDIR//EN
VERSION:2.0
METHOD:PUBLISH
X-MS-OLK-FORCEINSPECTOROPEN:TRUE
BEGIN:VEVENT
CLASS:PUBLIC
CREATED:20260422T101200Z
DESCRIPTION:Play With Nature - Live act: &quot;Gib in ples&quot;\n\nŽanr: impro in eksperimentalna / impro and experimental\n\nLokacija: Avditorij Portorož, Portorož\nZačetek: 09.04.2026 ob 18:00\n\nVeč informacij: https://www.facebook.com/events/1263327479328600/
DTSTAMP:20260409T160000Z
DTSTART:20260409T160000Z
LAST-MODIFIED:20260422T101200Z
LOCATION:Avditorij Portorož, Portorož
PRIORITY:5
SEQUENCE:0
SUMMARY;LANGUAGE=sl-si:Play With Nature - Live act: &quot;Gib in ples&quot;
TRANSP:OPAQUE
UID:69e882d089bc7
X-MICROSOFT-CDO-BUSYSTATUS:BUSY
X-MICROSOFT-CDO-IMPORTANCE:1
X-MICROSOFT-DISALLOW-COUNTER:FALSE
X-MS-OLK-ALLOWEXTERNCHECK:TRUE
X-MS-OLK-AUTOFILLLOCATION:FALSE
X-MS-OLK-CONFTYPE:0
BEGIN:VALARM
TRIGGER:-PT1440M
ACTION:DISPLAY
DESCRIPTION:Opomnik na dogodek
END:VALARM
END:VEVENT
END:VCALENDAR
