BEGIN:VCALENDAR
PRODID:-//Microsoft Corporation//Outlook 12.0 MIMEDIR//EN
VERSION:2.0
METHOD:PUBLISH
X-MS-OLK-FORCEINSPECTOROPEN:TRUE
BEGIN:VEVENT
CLASS:PUBLIC
CREATED:20260422T100703Z
DESCRIPTION:Lisica\n\nŽanr: popularna / popular\n\nLokacija: Layerjeva hiša, Kranj\nZačetek: 25.04.2026 ob 20:00\n\nVeč informacij: https://layer.si/vnos/koncert-in-predstavitev-albuma-lisica-dam-das/
DTSTAMP:20260425T180000Z
DTSTART:20260425T180000Z
LAST-MODIFIED:20260422T100703Z
LOCATION:Layerjeva hiša, Kranj
PRIORITY:5
SEQUENCE:0
SUMMARY;LANGUAGE=sl-si:Lisica
TRANSP:OPAQUE
UID:69e881a7689e9
X-MICROSOFT-CDO-BUSYSTATUS:BUSY
X-MICROSOFT-CDO-IMPORTANCE:1
X-MICROSOFT-DISALLOW-COUNTER:FALSE
X-MS-OLK-ALLOWEXTERNCHECK:TRUE
X-MS-OLK-AUTOFILLLOCATION:FALSE
X-MS-OLK-CONFTYPE:0
BEGIN:VALARM
TRIGGER:-PT1440M
ACTION:DISPLAY
DESCRIPTION:Opomnik na dogodek
END:VALARM
END:VEVENT
END:VCALENDAR
