BEGIN:VCALENDAR
PRODID:-//Microsoft Corporation//Outlook 12.0 MIMEDIR//EN
VERSION:2.0
METHOD:PUBLISH
X-MS-OLK-FORCEINSPECTOROPEN:TRUE
BEGIN:VEVENT
CLASS:PUBLIC
CREATED:20260422T162707Z
DESCRIPTION:Greg Black &amp; The Bad Notion\n\nŽanr: popularna / popular\n\nLokacija: Menza pri koritu, Ljubljana\nZačetek: 17.04.2026 ob 21:30\n\nVeč informacij: https://www.facebook.com/events/4294734047467051/?acontext=%7B%22event_action_history%22%3A[%7B%22mechanism%22%3A%22calendar_tab_event%22%2C%22surface%22%3A%22bookmark_calendar%22%7D]%2C%22ref_notif_type%22%3Anull%7D
DTSTAMP:20260417T193000Z
DTSTART:20260417T193000Z
LAST-MODIFIED:20260422T162707Z
LOCATION:Menza pri koritu, Ljubljana
PRIORITY:5
SEQUENCE:0
SUMMARY;LANGUAGE=sl-si:Greg Black &amp; The Bad Notion
TRANSP:OPAQUE
UID:69e8dabb9bd20
X-MICROSOFT-CDO-BUSYSTATUS:BUSY
X-MICROSOFT-CDO-IMPORTANCE:1
X-MICROSOFT-DISALLOW-COUNTER:FALSE
X-MS-OLK-ALLOWEXTERNCHECK:TRUE
X-MS-OLK-AUTOFILLLOCATION:FALSE
X-MS-OLK-CONFTYPE:0
BEGIN:VALARM
TRIGGER:-PT1440M
ACTION:DISPLAY
DESCRIPTION:Opomnik na dogodek
END:VALARM
END:VEVENT
END:VCALENDAR
