BEGIN:VCALENDAR
PRODID:-//Microsoft Corporation//Outlook 12.0 MIMEDIR//EN
VERSION:2.0
METHOD:PUBLISH
X-MS-OLK-FORCEINSPECTOROPEN:TRUE
BEGIN:VEVENT
CLASS:PUBLIC
CREATED:20260422T100844Z
DESCRIPTION:SGD: Pesmi, ki so premagale čas - Odmevi radijske dediščine\n\nŽanr: klasična / classical\n\nLokacija: Unionska dvorana, Ljubljana\nZačetek: 21.04.2026 ob 18:00\n\nVeč informacij: https://www.ljubljanafestival.si/sl/koledar-dogodkov/12871-pesmi-ki-so-premagale-cas#nastopajoci
DTSTAMP:20260421T160000Z
DTSTART:20260421T160000Z
LAST-MODIFIED:20260422T100844Z
LOCATION:Unionska dvorana, Ljubljana
PRIORITY:5
SEQUENCE:0
SUMMARY;LANGUAGE=sl-si:SGD: Pesmi, ki so premagale čas - Odmevi radijske dediščine
TRANSP:OPAQUE
UID:69e8820c900d3
X-MICROSOFT-CDO-BUSYSTATUS:BUSY
X-MICROSOFT-CDO-IMPORTANCE:1
X-MICROSOFT-DISALLOW-COUNTER:FALSE
X-MS-OLK-ALLOWEXTERNCHECK:TRUE
X-MS-OLK-AUTOFILLLOCATION:FALSE
X-MS-OLK-CONFTYPE:0
BEGIN:VALARM
TRIGGER:-PT1440M
ACTION:DISPLAY
DESCRIPTION:Opomnik na dogodek
END:VALARM
END:VEVENT
END:VCALENDAR
