BEGIN:VCALENDAR
PRODID:-//Microsoft Corporation//Outlook 12.0 MIMEDIR//EN
VERSION:2.0
METHOD:PUBLISH
X-MS-OLK-FORCEINSPECTOROPEN:TRUE
BEGIN:VEVENT
CLASS:PUBLIC
CREATED:20260422T114514Z
DESCRIPTION:Fallen Division, Emona\n\nŽanr: popularna / popular\n\nLokacija: Orto bar\nZačetek: 30.04.2026 ob 20:00\n\nVeč informacij: https://www.orto-bar.com/dogodki/koncerti/fallen-divisionemona/
DTSTAMP:20260430T180000Z
DTSTART:20260430T180000Z
LAST-MODIFIED:20260422T114514Z
LOCATION:Orto bar
PRIORITY:5
SEQUENCE:0
SUMMARY;LANGUAGE=sl-si:Fallen Division, Emona
TRANSP:OPAQUE
UID:69e898aa6cd01
X-MICROSOFT-CDO-BUSYSTATUS:BUSY
X-MICROSOFT-CDO-IMPORTANCE:1
X-MICROSOFT-DISALLOW-COUNTER:FALSE
X-MS-OLK-ALLOWEXTERNCHECK:TRUE
X-MS-OLK-AUTOFILLLOCATION:FALSE
X-MS-OLK-CONFTYPE:0
BEGIN:VALARM
TRIGGER:-PT1440M
ACTION:DISPLAY
DESCRIPTION:Opomnik na dogodek
END:VALARM
END:VEVENT
END:VCALENDAR
