BEGIN:VCALENDAR
PRODID:-//Microsoft Corporation//Outlook 12.0 MIMEDIR//EN
VERSION:2.0
METHOD:PUBLISH
X-MS-OLK-FORCEINSPECTOROPEN:TRUE
BEGIN:VEVENT
CLASS:PUBLIC
CREATED:20260422T100803Z
DESCRIPTION:Martin Küchen, Gal Furlan in Andrej Kobal\n\nŽanr: impro in eksperimentalna / impro and experimental\n\nLokacija: Carinarnica, Nova Gorica\nZačetek: 15.04.2026 ob 20:00\n\nVeč informacij: https://www.facebook.com/events/935735129223520
DTSTAMP:20260415T180000Z
DTSTART:20260415T180000Z
LAST-MODIFIED:20260422T100803Z
LOCATION:Carinarnica, Nova Gorica
PRIORITY:5
SEQUENCE:0
SUMMARY;LANGUAGE=sl-si:Martin Küchen, Gal Furlan in Andrej Kobal
TRANSP:OPAQUE
UID:69e881e361d40
X-MICROSOFT-CDO-BUSYSTATUS:BUSY
X-MICROSOFT-CDO-IMPORTANCE:1
X-MICROSOFT-DISALLOW-COUNTER:FALSE
X-MS-OLK-ALLOWEXTERNCHECK:TRUE
X-MS-OLK-AUTOFILLLOCATION:FALSE
X-MS-OLK-CONFTYPE:0
BEGIN:VALARM
TRIGGER:-PT1440M
ACTION:DISPLAY
DESCRIPTION:Opomnik na dogodek
END:VALARM
END:VEVENT
END:VCALENDAR
