BEGIN:VCALENDAR
PRODID:-//Microsoft Corporation//Outlook 12.0 MIMEDIR//EN
VERSION:2.0
METHOD:PUBLISH
X-MS-OLK-FORCEINSPECTOROPEN:TRUE
BEGIN:VEVENT
CLASS:PUBLIC
CREATED:20260422T113943Z
DESCRIPTION:Diskoterapija: Maša\n\nŽanr: popularna / popular\n\nLokacija: Klub K4, Ljubljana\nZačetek: 16.04.2026 ob 19:00\n\nVeč informacij: https://www.facebook.com/events/1437284877478003?checkpoint_src=any
DTSTAMP:20260416T170000Z
DTSTART:20260416T170000Z
LAST-MODIFIED:20260422T113943Z
LOCATION:Klub K4, Ljubljana
PRIORITY:5
SEQUENCE:0
SUMMARY;LANGUAGE=sl-si:Diskoterapija: Maša
TRANSP:OPAQUE
UID:69e8975ff001e
X-MICROSOFT-CDO-BUSYSTATUS:BUSY
X-MICROSOFT-CDO-IMPORTANCE:1
X-MICROSOFT-DISALLOW-COUNTER:FALSE
X-MS-OLK-ALLOWEXTERNCHECK:TRUE
X-MS-OLK-AUTOFILLLOCATION:FALSE
X-MS-OLK-CONFTYPE:0
BEGIN:VALARM
TRIGGER:-PT1440M
ACTION:DISPLAY
DESCRIPTION:Opomnik na dogodek
END:VALARM
END:VEVENT
END:VCALENDAR
