BEGIN:VCALENDAR
PRODID:-//Microsoft Corporation//Outlook 12.0 MIMEDIR//EN
VERSION:2.0
METHOD:PUBLISH
X-MS-OLK-FORCEINSPECTOROPEN:TRUE
BEGIN:VEVENT
CLASS:PUBLIC
CREATED:20260422T162712Z
DESCRIPTION:Leanne / All Night Long\n\nŽanr: popularna / popular\n\nLokacija: Publika Bar Klub, Ljubljana\nZačetek: 24.04.2026 ob 23:00\n\nVeč informacij: https://www.facebook.com/events/5272098756348468
DTSTAMP:20260424T210000Z
DTSTART:20260424T210000Z
LAST-MODIFIED:20260422T162712Z
LOCATION:Publika Bar Klub, Ljubljana
PRIORITY:5
SEQUENCE:0
SUMMARY;LANGUAGE=sl-si:Leanne / All Night Long
TRANSP:OPAQUE
UID:69e8dac09aebe
X-MICROSOFT-CDO-BUSYSTATUS:BUSY
X-MICROSOFT-CDO-IMPORTANCE:1
X-MICROSOFT-DISALLOW-COUNTER:FALSE
X-MS-OLK-ALLOWEXTERNCHECK:TRUE
X-MS-OLK-AUTOFILLLOCATION:FALSE
X-MS-OLK-CONFTYPE:0
BEGIN:VALARM
TRIGGER:-PT1440M
ACTION:DISPLAY
DESCRIPTION:Opomnik na dogodek
END:VALARM
END:VEVENT
END:VCALENDAR
