BEGIN:VCALENDAR
PRODID:-//Microsoft Corporation//Outlook 12.0 MIMEDIR//EN
VERSION:2.0
METHOD:PUBLISH
X-MS-OLK-FORCEINSPECTOROPEN:TRUE
BEGIN:VEVENT
CLASS:PUBLIC
CREATED:20260422T113955Z
DESCRIPTION:Jazz v Narodnem domu: Paolo Angeli\n\nŽanr: jazz\n\nLokacija: Narodni dom Maribor, Maribor\nZačetek: 16.04.2026 ob 20:30\n\nVeč informacij: https://nd-mb.si/dogodek/paolo-angeli/
DTSTAMP:20260416T183000Z
DTSTART:20260416T183000Z
LAST-MODIFIED:20260422T113955Z
LOCATION:Narodni dom Maribor, Maribor
PRIORITY:5
SEQUENCE:0
SUMMARY;LANGUAGE=sl-si:Jazz v Narodnem domu: Paolo Angeli
TRANSP:OPAQUE
UID:69e8976b42147
X-MICROSOFT-CDO-BUSYSTATUS:BUSY
X-MICROSOFT-CDO-IMPORTANCE:1
X-MICROSOFT-DISALLOW-COUNTER:FALSE
X-MS-OLK-ALLOWEXTERNCHECK:TRUE
X-MS-OLK-AUTOFILLLOCATION:FALSE
X-MS-OLK-CONFTYPE:0
BEGIN:VALARM
TRIGGER:-PT1440M
ACTION:DISPLAY
DESCRIPTION:Opomnik na dogodek
END:VALARM
END:VEVENT
END:VCALENDAR
