BEGIN:VCALENDAR
PRODID:-//Microsoft Corporation//Outlook 12.0 MIMEDIR//EN
VERSION:2.0
METHOD:PUBLISH
X-MS-OLK-FORCEINSPECTOROPEN:TRUE
BEGIN:VEVENT
CLASS:PUBLIC
CREATED:20260422T114418Z
DESCRIPTION:Večer muzikala in cabareta s Tjašo Fajdiga in Blaž Jurjevčič triom\n\nŽanr: opera in glasbeno gledališče / opera and music theatre\n\nLokacija: Ruska dača, Zgornje Gameljne\nZačetek: 16.04.2026 ob 19:00\n\nVeč informacij: https://www.ruska-daca.si
DTSTAMP:20260416T170000Z
DTSTART:20260416T170000Z
LAST-MODIFIED:20260422T114418Z
LOCATION:Ruska dača, Zgornje Gameljne
PRIORITY:5
SEQUENCE:0
SUMMARY;LANGUAGE=sl-si:Večer muzikala in cabareta s Tjašo Fajdiga in Blaž Jurjevčič triom
TRANSP:OPAQUE
UID:69e89872c3ebd
X-MICROSOFT-CDO-BUSYSTATUS:BUSY
X-MICROSOFT-CDO-IMPORTANCE:1
X-MICROSOFT-DISALLOW-COUNTER:FALSE
X-MS-OLK-ALLOWEXTERNCHECK:TRUE
X-MS-OLK-AUTOFILLLOCATION:FALSE
X-MS-OLK-CONFTYPE:0
BEGIN:VALARM
TRIGGER:-PT1440M
ACTION:DISPLAY
DESCRIPTION:Opomnik na dogodek
END:VALARM
END:VEVENT
END:VCALENDAR
