BEGIN:VCALENDAR
PRODID:-//Microsoft Corporation//Outlook 12.0 MIMEDIR//EN
VERSION:2.0
METHOD:PUBLISH
X-MS-OLK-FORCEINSPECTOROPEN:TRUE
BEGIN:VEVENT
CLASS:PUBLIC
CREATED:20260422T131116Z
DESCRIPTION:Katalena: Koncert za male in velike otroke\n\nŽanr: etno in glasbe sveta / world music\n\nLokacija: Radovljica\nDatum: 19.04.2026\n\nVeč informacij: https://www.katalena.net/koncerti
DTSTAMP:20260419
DTSTART:20260419
LAST-MODIFIED:20260422T131116Z
LOCATION:Radovljica
PRIORITY:5
SEQUENCE:0
SUMMARY;LANGUAGE=sl-si:Katalena: Koncert za male in velike otroke
TRANSP:OPAQUE
UID:69e8acd41bf53
X-MICROSOFT-CDO-BUSYSTATUS:BUSY
X-MICROSOFT-CDO-IMPORTANCE:1
X-MICROSOFT-DISALLOW-COUNTER:FALSE
X-MS-OLK-ALLOWEXTERNCHECK:TRUE
X-MS-OLK-AUTOFILLLOCATION:FALSE
X-MS-OLK-CONFTYPE:0
BEGIN:VALARM
TRIGGER:-PT1440M
ACTION:DISPLAY
DESCRIPTION:Opomnik na dogodek
END:VALARM
END:VEVENT
END:VCALENDAR
