BEGIN:VCALENDAR
PRODID:-//Microsoft Corporation//Outlook 12.0 MIMEDIR//EN
VERSION:2.0
METHOD:PUBLISH
X-MS-OLK-FORCEINSPECTOROPEN:TRUE
BEGIN:VEVENT
CLASS:PUBLIC
CREATED:20260422T100324Z
DESCRIPTION:Otvoritev letnega vrta: Tjaša Toman\n\nŽanr: popularna / popular\n\nLokacija: Kostanjev gaj, Ljubljana\nZačetek: 18.04.2026 ob 17:00
DTSTAMP:20260418T150000Z
DTSTART:20260418T150000Z
LAST-MODIFIED:20260422T100324Z
LOCATION:Kostanjev gaj, Ljubljana
PRIORITY:5
SEQUENCE:0
SUMMARY;LANGUAGE=sl-si:Otvoritev letnega vrta: Tjaša Toman
TRANSP:OPAQUE
UID:69e880cc290c1
X-MICROSOFT-CDO-BUSYSTATUS:BUSY
X-MICROSOFT-CDO-IMPORTANCE:1
X-MICROSOFT-DISALLOW-COUNTER:FALSE
X-MS-OLK-ALLOWEXTERNCHECK:TRUE
X-MS-OLK-AUTOFILLLOCATION:FALSE
X-MS-OLK-CONFTYPE:0
BEGIN:VALARM
TRIGGER:-PT1440M
ACTION:DISPLAY
DESCRIPTION:Opomnik na dogodek
END:VALARM
END:VEVENT
END:VCALENDAR
