BEGIN:VCALENDAR
PRODID:-//Microsoft Corporation//Outlook 12.0 MIMEDIR//EN
VERSION:2.0
METHOD:PUBLISH
X-MS-OLK-FORCEINSPECTOROPEN:TRUE
BEGIN:VEVENT
CLASS:PUBLIC
CREATED:20260422T114557Z
DESCRIPTION:Peach Pit\n\nŽanr: popularna / popular\n\nLokacija: Klub Metulj, Bistrica ob Sotli\nZačetek: 19.04.2026 ob 20:00\n\nVeč informacij: https://www.facebook.com/events/1653027735720760/
DTSTAMP:20260419T180000Z
DTSTART:20260419T180000Z
LAST-MODIFIED:20260422T114557Z
LOCATION:Klub Metulj, Bistrica ob Sotli
PRIORITY:5
SEQUENCE:0
SUMMARY;LANGUAGE=sl-si:Peach Pit
TRANSP:OPAQUE
UID:69e898d57ed66
X-MICROSOFT-CDO-BUSYSTATUS:BUSY
X-MICROSOFT-CDO-IMPORTANCE:1
X-MICROSOFT-DISALLOW-COUNTER:FALSE
X-MS-OLK-ALLOWEXTERNCHECK:TRUE
X-MS-OLK-AUTOFILLLOCATION:FALSE
X-MS-OLK-CONFTYPE:0
BEGIN:VALARM
TRIGGER:-PT1440M
ACTION:DISPLAY
DESCRIPTION:Opomnik na dogodek
END:VALARM
END:VEVENT
END:VCALENDAR
