BEGIN:VCALENDAR
PRODID:-//Microsoft Corporation//Outlook 12.0 MIMEDIR//EN
VERSION:2.0
METHOD:PUBLISH
X-MS-OLK-FORCEINSPECTOROPEN:TRUE
BEGIN:VEVENT
CLASS:PUBLIC
CREATED:20260422T114439Z
DESCRIPTION:Vinyl Convention\n\nŽanr: popularna / popular\n\nLokacija: Kader/Lunapark, Ljubljana\nDatum: 26.04.2026\n\nVeč informacij: https://www.facebook.com/events/1744241439881304/
DTSTAMP:20260426
DTSTART:20260426
LAST-MODIFIED:20260422T114439Z
LOCATION:Kader/Lunapark, Ljubljana
PRIORITY:5
SEQUENCE:0
SUMMARY;LANGUAGE=sl-si:Vinyl Convention
TRANSP:OPAQUE
UID:69e89887669ea
X-MICROSOFT-CDO-BUSYSTATUS:BUSY
X-MICROSOFT-CDO-IMPORTANCE:1
X-MICROSOFT-DISALLOW-COUNTER:FALSE
X-MS-OLK-ALLOWEXTERNCHECK:TRUE
X-MS-OLK-AUTOFILLLOCATION:FALSE
X-MS-OLK-CONFTYPE:0
BEGIN:VALARM
TRIGGER:-PT1440M
ACTION:DISPLAY
DESCRIPTION:Opomnik na dogodek
END:VALARM
END:VEVENT
END:VCALENDAR
