BEGIN:VCALENDAR
PRODID:-//Microsoft Corporation//Outlook 12.0 MIMEDIR//EN
VERSION:2.0
METHOD:PUBLISH
X-MS-OLK-FORCEINSPECTOROPEN:TRUE
BEGIN:VEVENT
CLASS:PUBLIC
CREATED:20260422T114653Z
DESCRIPTION:Clockwork Voltage x Studio Sepič\n\nŽanr: impro in eksperimentalna / impro and experimental\n\nLokacija: Litostrojska cesta 40, Ljubljana\nZačetek: 30.04.2026 ob 19:00\n\nVeč informacij: https://www.facebook.com/events/974126391835294/?acontext=%7B%22event_action_history%22%3A[%7B%22extra_data%22%3A%22%22%2C%22mechanism%22%3A%22calendar_tab_event%22%2C%22surface%22%3A%22bookmark_calendar%22%7D%2C%7B%22extra_data%22%3A%22%22%2C%22mechanism
DTSTAMP:20260430T170000Z
DTSTART:20260430T170000Z
LAST-MODIFIED:20260422T114653Z
LOCATION:Litostrojska cesta 40, Ljubljana
PRIORITY:5
SEQUENCE:0
SUMMARY;LANGUAGE=sl-si:Clockwork Voltage x Studio Sepič
TRANSP:OPAQUE
UID:69e8990d17451
X-MICROSOFT-CDO-BUSYSTATUS:BUSY
X-MICROSOFT-CDO-IMPORTANCE:1
X-MICROSOFT-DISALLOW-COUNTER:FALSE
X-MS-OLK-ALLOWEXTERNCHECK:TRUE
X-MS-OLK-AUTOFILLLOCATION:FALSE
X-MS-OLK-CONFTYPE:0
BEGIN:VALARM
TRIGGER:-PT1440M
ACTION:DISPLAY
DESCRIPTION:Opomnik na dogodek
END:VALARM
END:VEVENT
END:VCALENDAR
