BEGIN:VCALENDAR
PRODID:-//Microsoft Corporation//Outlook 12.0 MIMEDIR//EN
VERSION:2.0
METHOD:PUBLISH
X-MS-OLK-FORCEINSPECTOROPEN:TRUE
BEGIN:VEVENT
CLASS:PUBLIC
CREATED:20260422T101135Z
DESCRIPTION:Recycleman / D314\n\nŽanr: popularna / popular\n\nLokacija: Dom Svobode Trbovlje, Trbovlje\nZačetek: 25.04.2026 ob 20:30\n\nVeč informacij: https://www.facebook.com/events/2113532356061274
DTSTAMP:20260425T183000Z
DTSTART:20260425T183000Z
LAST-MODIFIED:20260422T101135Z
LOCATION:Dom Svobode Trbovlje, Trbovlje
PRIORITY:5
SEQUENCE:0
SUMMARY;LANGUAGE=sl-si:Recycleman / D314
TRANSP:OPAQUE
UID:69e882b7a7a8c
X-MICROSOFT-CDO-BUSYSTATUS:BUSY
X-MICROSOFT-CDO-IMPORTANCE:1
X-MICROSOFT-DISALLOW-COUNTER:FALSE
X-MS-OLK-ALLOWEXTERNCHECK:TRUE
X-MS-OLK-AUTOFILLLOCATION:FALSE
X-MS-OLK-CONFTYPE:0
BEGIN:VALARM
TRIGGER:-PT1440M
ACTION:DISPLAY
DESCRIPTION:Opomnik na dogodek
END:VALARM
END:VEVENT
END:VCALENDAR
