BEGIN:VCALENDAR
PRODID:-//Microsoft Corporation//Outlook 12.0 MIMEDIR//EN
VERSION:2.0
METHOD:PUBLISH
X-MS-OLK-FORCEINSPECTOROPEN:TRUE
BEGIN:VEVENT
CLASS:PUBLIC
CREATED:20260422T114510Z
DESCRIPTION:dr. Maja Vasiljević; Slušajući Jugoslaviju: filmska muzika kao pamćenje, identitet i emocija\n\nŽanr: predavanja in posveti / lectures and conferences\n\nLokacija: Gosposka dvorana ZRC SAZU, Ljubljana\nZačetek: 23.04.2026 ob 18:00\n\nVeč informacij: https://www.slomd.si/2026/04/12/predavanje-dr-maje-vasiljevic/
DTSTAMP:20260423T160000Z
DTSTART:20260423T160000Z
LAST-MODIFIED:20260422T114510Z
LOCATION:Gosposka dvorana ZRC SAZU, Ljubljana
PRIORITY:5
SEQUENCE:0
SUMMARY;LANGUAGE=sl-si:dr. Maja Vasiljević; Slušajući Jugoslaviju: filmska muzika kao pamćenje, identitet i emocija
TRANSP:OPAQUE
UID:69e898a643650
X-MICROSOFT-CDO-BUSYSTATUS:BUSY
X-MICROSOFT-CDO-IMPORTANCE:1
X-MICROSOFT-DISALLOW-COUNTER:FALSE
X-MS-OLK-ALLOWEXTERNCHECK:TRUE
X-MS-OLK-AUTOFILLLOCATION:FALSE
X-MS-OLK-CONFTYPE:0
BEGIN:VALARM
TRIGGER:-PT1440M
ACTION:DISPLAY
DESCRIPTION:Opomnik na dogodek
END:VALARM
END:VEVENT
END:VCALENDAR
