BEGIN:VCALENDAR
PRODID:-//Microsoft Corporation//Outlook 12.0 MIMEDIR//EN
VERSION:2.0
METHOD:PUBLISH
X-MS-OLK-FORCEINSPECTOROPEN:TRUE
BEGIN:VEVENT
CLASS:PUBLIC
CREATED:20260422T101106Z
DESCRIPTION:Črtomir Šiškovič, violina, Rosanna Valesi in Simona Mallozzi, harfa\n\nŽanr: klasična / classical\n\nLokacija: Pokrajinski muzej Koper, Koper\nZačetek: 23.04.2026 ob 19:30\n\nVeč informacij: https://www.dpgkoper.com/index.php?id=186&p=&cat_id=1&search=#ontitle
DTSTAMP:20260423T173000Z
DTSTART:20260423T173000Z
LAST-MODIFIED:20260422T101106Z
LOCATION:Pokrajinski muzej Koper, Koper
PRIORITY:5
SEQUENCE:0
SUMMARY;LANGUAGE=sl-si:Črtomir Šiškovič, violina, Rosanna Valesi in Simona Mallozzi, harfa
TRANSP:OPAQUE
UID:69e8829a36ab0
X-MICROSOFT-CDO-BUSYSTATUS:BUSY
X-MICROSOFT-CDO-IMPORTANCE:1
X-MICROSOFT-DISALLOW-COUNTER:FALSE
X-MS-OLK-ALLOWEXTERNCHECK:TRUE
X-MS-OLK-AUTOFILLLOCATION:FALSE
X-MS-OLK-CONFTYPE:0
BEGIN:VALARM
TRIGGER:-PT1440M
ACTION:DISPLAY
DESCRIPTION:Opomnik na dogodek
END:VALARM
END:VEVENT
END:VCALENDAR
