BEGIN:VCALENDAR
PRODID:-//Microsoft Corporation//Outlook 12.0 MIMEDIR//EN
VERSION:2.0
METHOD:PUBLISH
X-MS-OLK-FORCEINSPECTOROPEN:TRUE
BEGIN:VEVENT
CLASS:PUBLIC
CREATED:20260422T130926Z
DESCRIPTION:Petar Martić\n\nŽanr: popularna / popular\n\nLokacija: Voyager Craft Bar, Ljubljana\nDatum: 29.04.2026\n\nVeč informacij: https://www.instagram.com/p/DWPFr8BACIG/
DTSTAMP:20260429
DTSTART:20260429
LAST-MODIFIED:20260422T130926Z
LOCATION:Voyager Craft Bar, Ljubljana
PRIORITY:5
SEQUENCE:0
SUMMARY;LANGUAGE=sl-si:Petar Martić
TRANSP:OPAQUE
UID:69e8ac66585f2
X-MICROSOFT-CDO-BUSYSTATUS:BUSY
X-MICROSOFT-CDO-IMPORTANCE:1
X-MICROSOFT-DISALLOW-COUNTER:FALSE
X-MS-OLK-ALLOWEXTERNCHECK:TRUE
X-MS-OLK-AUTOFILLLOCATION:FALSE
X-MS-OLK-CONFTYPE:0
BEGIN:VALARM
TRIGGER:-PT1440M
ACTION:DISPLAY
DESCRIPTION:Opomnik na dogodek
END:VALARM
END:VEVENT
END:VCALENDAR
